BEGIN:VCALENDAR
VERSION:2.0
PRODID:icalendar-ruby
CALSCALE:GREGORIAN
METHOD:PUBLISH
BEGIN:VEVENT
DTSTAMP:20260421T085149Z
UID:10-458986@fhcoc.com
DTSTART:20260802T140000Z
DTEND:20260802T144000Z
CLASS:PUBLIC
CREATED:20260420T195441
DESCRIPTION:
LAST-MODIFIED:20260420T195441
LOCATION:
SUMMARY:Sunday Morning Bible Study
URL;VALUE=URI:https://www.fhcoc.com/events/sunday-morning-bible-study--10/2
 026-08-02
END:VEVENT
END:VCALENDAR
