BEGIN:VCALENDAR
VERSION:2.0
PRODID:icalendar-ruby
CALSCALE:GREGORIAN
METHOD:PUBLISH
BEGIN:VEVENT
DTSTAMP:20260422T084056Z
UID:10-461223@fhcoc.com
DTSTART:20261018T140000Z
DTEND:20261018T144000Z
CLASS:PUBLIC
CREATED:20260421T200942
DESCRIPTION:
LAST-MODIFIED:20260421T200942
LOCATION:
SUMMARY:Sunday Morning Bible Study
URL;VALUE=URI:https://www.fhcoc.com/events/sunday-morning-bible-study--10/2
 026-10-18
END:VEVENT
END:VCALENDAR
